BEGIN:VCALENDAR
VERSION:2.0
PRODID:-//Don Valley Community Legal Services - ECPv6.15.16//NONSGML v1.0//EN
CALSCALE:GREGORIAN
METHOD:PUBLISH
X-WR-CALNAME:Don Valley Community Legal Services
X-ORIGINAL-URL:https://www.donvalleylegal.ca
X-WR-CALDESC:Events for Don Valley Community Legal Services
REFRESH-INTERVAL;VALUE=DURATION:PT1H
X-Robots-Tag:noindex
X-PUBLISHED-TTL:PT1H
BEGIN:VTIMEZONE
TZID:America/Toronto
BEGIN:DAYLIGHT
TZOFFSETFROM:-0500
TZOFFSETTO:-0400
TZNAME:EDT
DTSTART:20240310T070000
END:DAYLIGHT
BEGIN:STANDARD
TZOFFSETFROM:-0400
TZOFFSETTO:-0500
TZNAME:EST
DTSTART:20241103T060000
END:STANDARD
BEGIN:DAYLIGHT
TZOFFSETFROM:-0500
TZOFFSETTO:-0400
TZNAME:EDT
DTSTART:20250309T070000
END:DAYLIGHT
BEGIN:STANDARD
TZOFFSETFROM:-0400
TZOFFSETTO:-0500
TZNAME:EST
DTSTART:20251102T060000
END:STANDARD
BEGIN:DAYLIGHT
TZOFFSETFROM:-0500
TZOFFSETTO:-0400
TZNAME:EDT
DTSTART:20260308T070000
END:DAYLIGHT
BEGIN:STANDARD
TZOFFSETFROM:-0400
TZOFFSETTO:-0500
TZNAME:EST
DTSTART:20261101T060000
END:STANDARD
END:VTIMEZONE
BEGIN:VEVENT
DTSTART;TZID=America/Toronto:20250306T183000
DTEND;TZID=America/Toronto:20250306T200000
DTSTAMP:20260421T081652
CREATED:20250224T202054Z
LAST-MODIFIED:20250224T202054Z
UID:3650-1741285800-1741291200@www.donvalleylegal.ca
SUMMARY:Wills and Powers of Attorney Workshop
DESCRIPTION:Date: Thursday\, March 6\, 2025\nTime: 6:30 pm to 8:00 pm\nLocation: Ralph Thornton Community Centre\, 765 Queen St. East\, Jim Houston Room (3rd Floor) \nJoin this free workshop with a paralegal from our community legal clinic to learn about wills and powers of attorney. \n*Please note this is a workshop to provide legal information only. DVCLS does not assist clients with drafting wills or powers of attorney. \nEveryone is welcome to attend!
URL:https://www.donvalleylegal.ca/event/wills-and-powers-of-attorney-workshop/
LOCATION:Ralph Thornton Community Centre\, 765 Queen Street East\, Toronto\, Ontario\, M4M 1H3
ATTACH;FMTTYPE=image/png:https://www.donvalleylegal.ca/wp-content/uploads/2025/02/DVCLS-x-TPL-Wills-and-POA-Workshop-March-6-2025.png
END:VEVENT
BEGIN:VEVENT
DTSTART;TZID=America/Toronto:20250319T100000
DTEND;TZID=America/Toronto:20250319T140000
DTSTAMP:20260421T081652
CREATED:20250306T155313Z
LAST-MODIFIED:20250306T170912Z
UID:3662-1742378400-1742392800@www.donvalleylegal.ca
SUMMARY:Addressing unhealthy conditions in rental housing: the case of mould
DESCRIPTION:Free webinar hosted by Community Legal Education Ontario (CLEO) \nDate: Wednesday\, March 19\, 2025\nTime: 10 AM to 12 PM \nEnglish Registration:\nhttps://outreach.cleo.on.ca/civicrm/?civiwp=CiviCRM&q=civicrm%2Fevent%2Fregister&id=429&reset=1 \nFrench Registration:\nhttps://outreach.cleo.on.ca/fr/civicrm/?civiwp=CiviCRM&q=civicrm%2Fevent%2Fregister&id=429&reset=1 \nMould is one of the most common concerns contributing to unhealthy housing in Ontario. \nCLEO is pleased to partner with RentSafe on this interactive learning session to gain practical tips and resources to prevent and address mould and improve conditions in rental housing. \nThis webinar will support tenants\, landlords\, public health\, health care and social service providers to increase your understanding of mould and its health effects and offer legal considerations including landlord and tenant rights and responsibilities. \nHear from health and legal experts\, tenants\, social services and housing providers from across Ontario on ways to improve collaboration across sectors to effectively prevent and address the potent health risks and equity concerns posed by mould in rental housing. \nWhat You’ll Learn: \n\nevidence and best practice to address the health impact of mould in housing\ntenant and landlord responsibilities and rights\npractical approaches to collaborate across sectors to improve responses to mould\n\nASL interpretation will be provided. \nInformation about the speakers: \n\nDr. Donald Cole\, MD FCFP(C)\, Canadian Association of Physicians for the Environment\, Environmental\, Occupational and Public Health Medicine Consultant\nJames Kemp\, Accessibility Committee for Person with Disabilities for the City of Hamilton\, Chair\nChad Bonnetrouge\, Indigenous Clean Energy\, Energy Efficiency Program Coordinator\nKatherine Wauthier\, Landlord Self-Help Centre\, Paralegal/Community Legal Worker\nSeana Moorhead\, Grey-Bruce Community Legal Clinic\, Lawyer/Executive Director\nAlexander Wray\, Ontario Association of Property Standards Officers\, President\nMichael Foster\, Ontario Association of Property Standards Officers\, Board member\nHelen Doyle\, Ontario Public Health Association\, Chair of Environmental Health Work Group\nMarivi Barrios. RentSafe\, Environmental Health Specialist\nBurgess Hawkins\, Public Health Sudbury and Districts\, Manager\, Environmental Health\nDarryl Wolk\, Ontario Municipal Social Services Association\, Manager\, Policy Development & Public Affairs\nScott McKay\, CMHA Grey Bruce Mental Health and Addictions Services\, Director of Client Services\nRebecca Carr\, CMHA Grey Bruce Mental Health and Addictions Services\, Manager of Housing\nErica Phipps\, Canadian Partnership for Children’s Health and Environment\, Executive Director\n\nModerator: \n\nGeri Blinick\, RentSafe\, RentSafe Project Manager\n\nAbout RentSafe: \nRentSafe is a collaborative\, intersectoral initiative to address unhealthy conditions affecting tenants on low income in both urban and rural communities in Ontario\, in support of the right to housing and the goal of healthy housing for all.
URL:https://www.donvalleylegal.ca/event/addressing-unhealthy-conditions-in-rental-housing-the-case-of-mould/
LOCATION:Ontario
ATTACH;FMTTYPE=image/png:https://www.donvalleylegal.ca/wp-content/uploads/2025/03/mouldBanner-Zoom-EN.png
END:VEVENT
BEGIN:VEVENT
DTSTART;TZID=America/Toronto:20250325T100000
DTEND;TZID=America/Toronto:20250325T140000
DTSTAMP:20260421T081652
CREATED:20250311T211012Z
LAST-MODIFIED:20250311T211012Z
UID:3671-1742896800-1742911200@www.donvalleylegal.ca
SUMMARY:Seniors Active Living Health and Wellness Fair March 25\, 2025
DESCRIPTION:Date: Tuesday\, March 25\, 2025\nTime: 10 am to 2 pm\nLocation: Leaside Memorial Gardens\, William Lee Room (1073 Millwood Road\, Toronto) \nDVCLS will be at the Seniors Active Living Health and Wellness Fair hosted by TNO. Come by our table for free resources and information.
URL:https://www.donvalleylegal.ca/event/seniors-active-living-health-and-wellness-fair-march-25-2025/
LOCATION:Leaside Memorial Gardens\, 1073 Millwood Road\, Toronto
ATTACH;FMTTYPE=image/jpeg:https://www.donvalleylegal.ca/wp-content/uploads/2025/03/Senior-Active-Living-Fair-March-25-2025.jpg
END:VEVENT
BEGIN:VEVENT
DTSTART;TZID=America/Toronto:20250326T110000
DTEND;TZID=America/Toronto:20250326T150000
DTSTAMP:20260421T081652
CREATED:20250324T171744Z
LAST-MODIFIED:20250324T171744Z
UID:3688-1742986800-1743001200@www.donvalleylegal.ca
SUMMARY:Community Health and Information Fair
DESCRIPTION:North York Community Health Partners Community Health and Information Fair\nDate: Wednesday\, March 26\, 2025\nTime: 11:00 a.m. – 3:00 p.m.\nLocation: Better Living – Thompson House\, 1 Overland Drive\, North York \nhttps://www.northyorktorontohealthpartners.ca/chifs
URL:https://www.donvalleylegal.ca/event/community-health-and-information-fair/
LOCATION:Better Living Health and Community Services\, 1 Overland Drive\, Toronto\, M3C 2C3
END:VEVENT
BEGIN:VEVENT
DTSTART;TZID=America/Toronto:20250327T180000
DTEND;TZID=America/Toronto:20250327T193000
DTSTAMP:20260421T081652
CREATED:20250224T202616Z
LAST-MODIFIED:20250224T202616Z
UID:3653-1743098400-1743103800@www.donvalleylegal.ca
SUMMARY:Tenants’ Rights Workshop
DESCRIPTION:Date: Thursday\, March 27\, 2025\nTime: 6:00 pm to 7:30 pm\nLocation: Ralph Thornton Community Centre\, 765 Queen St. East\, Jim Houston Room (3rd Floor) \nThis free workshop with a housing lawyer from our community legal clinic will cover the following topics: \n\nTenant & landlord rights and responsibilities\nMaintenance and repairs\nRent increases and AGIs (Above Guideline Increases)\nPrivacy and harassment\nTenant applications\nTenant resources\nQ&A\n\n 
URL:https://www.donvalleylegal.ca/event/tenants-rights-workshop-2/
LOCATION:Ralph Thornton Community Centre\, 765 Queen Street East\, Toronto\, Ontario\, M4M 1H3
ATTACH;FMTTYPE=image/png:https://www.donvalleylegal.ca/wp-content/uploads/2025/02/DVCLS-x-TPL-Tenants-Rights-Workshop-March-27-2025.png
END:VEVENT
END:VCALENDAR