BEGIN:VCALENDAR
VERSION:2.0
PRODID:-//Don Valley Community Legal Services - ECPv6.15.16//NONSGML v1.0//EN
CALSCALE:GREGORIAN
METHOD:PUBLISH
X-ORIGINAL-URL:https://www.donvalleylegal.ca
X-WR-CALDESC:Events for Don Valley Community Legal Services
REFRESH-INTERVAL;VALUE=DURATION:PT1H
X-Robots-Tag:noindex
X-PUBLISHED-TTL:PT1H
BEGIN:VTIMEZONE
TZID:America/Toronto
BEGIN:DAYLIGHT
TZOFFSETFROM:-0500
TZOFFSETTO:-0400
TZNAME:EDT
DTSTART:20240310T070000
END:DAYLIGHT
BEGIN:STANDARD
TZOFFSETFROM:-0400
TZOFFSETTO:-0500
TZNAME:EST
DTSTART:20241103T060000
END:STANDARD
BEGIN:DAYLIGHT
TZOFFSETFROM:-0500
TZOFFSETTO:-0400
TZNAME:EDT
DTSTART:20250309T070000
END:DAYLIGHT
BEGIN:STANDARD
TZOFFSETFROM:-0400
TZOFFSETTO:-0500
TZNAME:EST
DTSTART:20251102T060000
END:STANDARD
BEGIN:DAYLIGHT
TZOFFSETFROM:-0500
TZOFFSETTO:-0400
TZNAME:EDT
DTSTART:20260308T070000
END:DAYLIGHT
BEGIN:STANDARD
TZOFFSETFROM:-0400
TZOFFSETTO:-0500
TZNAME:EST
DTSTART:20261101T060000
END:STANDARD
END:VTIMEZONE
BEGIN:VEVENT
DTSTART;TZID=America/Toronto:20250211T120000
DTEND;TZID=America/Toronto:20250211T130000
DTSTAMP:20260421T100342
CREATED:20250206T151617Z
LAST-MODIFIED:20250206T151617Z
UID:3583-1739275200-1739278800@www.donvalleylegal.ca
SUMMARY:FUND OUR CITY: Toronto Budget Rally 2025
DESCRIPTION:Tell City Council to Fund our City!\nOn February 11\, Toronto City Council will be voting on the 2025 City Budget. Social Planning Toronto and partners are organizing a community rally outside City Hall to let Council know this is no time for cuts. \nThis year’s proposed budget includes increased investments into vital community services such as affordable housing\, transit\, and a student nutrition program\, but this funding won’t be guaranteed unless City Council votes to support it. It’s time to send a strong message: we need to fund a city where everyone can thrive. \nEvent details:\nFebruary 11\, 2025\n12 PM – 1 PM\nNathan Phillips Square\n100 Queen St. W \nCity Hall\, front doors \nAccessibility information and further guidelines for attendees:\n\nASL interpretation is available.\nThe event will be outdoors. Please dress for the weather. You will be able to go inside City Hall if you need to warm up.\nThe rally officially starts at 12 noon. We are inviting everyone to join us on-site at 11:45 AM for hot chocolate and sign making. You are welcome to bring your own sign.\nWe will be meeting near the entrance of City Hall. Please take care to not block the entrance\, and allow for people to freely enter and exit City Hall for the duration of the event.\nLimited outdoor seating will be available. Indoor seating and accessible washrooms are available inside City Hall. You do not need permission to use the washrooms.\nHot chocolate and snacks will be served on site. Vegan and vegetarian snacks will be available (unfortunately\, the snacks will not be gluten-free). Please help yourself to refreshments from our volunteers!\nThis is a free\, public event. RSVPs will help us plan\, but are not required.\nThis is a peaceful gathering. We ask that all participants please be respectful.\n\nhttps://www.socialplanningtoronto.org/fund_our_city_toronto_budget_rally
URL:https://www.donvalleylegal.ca/event/fund-our-city-toronto-budget-rally-2025/
LOCATION:Ontario
ATTACH;FMTTYPE=image/png:https://www.donvalleylegal.ca/wp-content/uploads/2025/02/FINAL_UPDATE_und_our_city_3.png
END:VEVENT
BEGIN:VEVENT
DTSTART;TZID=America/Toronto:20250218T180000
DTEND;TZID=America/Toronto:20250218T200000
DTSTAMP:20260421T100342
CREATED:20250212T181309Z
LAST-MODIFIED:20250212T181309Z
UID:3599-1739901600-1739908800@www.donvalleylegal.ca
SUMMARY:Thorncliffe Park All Candidates Forum
DESCRIPTION:Meet your Don Valley West Candidates! \nDate: Tuesday\, February 18\, 2025\nTime: 6:00 pm to 8:00 pm\nLocation: Thorncliffe Park Community Hub\, 45 Overlea Blvd \nMeet your provincial candidates and hear about their priorities. We will be asking the candidates questions from the community in a moderated Q&A style forum. Be Vote-Ready! \nSubmit your question online here:\nbit.ly/thorncliffe-candidates \nFor information on voting\, please visit www.elections.on.ca \nThis event is hosted by the Flemingdon Thorncliffe Inter Agency Network (FITAN)
URL:https://www.donvalleylegal.ca/event/thorncliffe-park-all-candidates-forum/
LOCATION:Thorncliffe Park Community Hub\, 45 Overlea Blvd\, Toronto\, ON\, M4H 1C3
ATTACH;FMTTYPE=image/jpeg:https://www.donvalleylegal.ca/wp-content/uploads/2025/02/Thorncliffe-Election-Forum-Feb-18-2025.jpg
END:VEVENT
BEGIN:VEVENT
DTSTART;TZID=America/Toronto:20250219T183000
DTEND;TZID=America/Toronto:20250219T203000
DTSTAMP:20260421T100342
CREATED:20250212T183801Z
LAST-MODIFIED:20250218T163936Z
UID:3602-1739989800-1739997000@www.donvalleylegal.ca
SUMMARY:Flemingdon Park All Candidates Forum
DESCRIPTION:Meet your Don Valley East Candidates! \nDate: Wednesday\, February 19\, 2025\nTime: 6:30 pm to 8:30 pm\nLocation: Gateway Public School\, 55 Gateway Blvd \nMeet your provincial candidates and hear about their priorities. We will be asking the candidates questions from the community in a moderated Q&A style forum. Be Vote-Ready! \nSubmit your question online here:\nbit.ly/flemingdon-candidates \nFor information on voting\, please visit www.elections.on.ca \nThis event is hosted by the Flemingdon Thorncliffe Inter Agency Network (FITAN)
URL:https://www.donvalleylegal.ca/event/flemingdon-park-all-candidates-forum/
LOCATION:Gateway Public School\, 55 Gateway Blvd\, Toronto
ATTACH;FMTTYPE=image/png:https://www.donvalleylegal.ca/wp-content/uploads/2025/02/Flemingdon-Election-Forum-Feb-19-2024.png
END:VEVENT
BEGIN:VEVENT
DTSTART;TZID=America/Toronto:20250224T183000
DTEND;TZID=America/Toronto:20250224T203000
DTSTAMP:20260421T100342
CREATED:20250212T184148Z
LAST-MODIFIED:20250221T201559Z
UID:3605-1740421800-1740429000@www.donvalleylegal.ca
SUMMARY:Taylor-Massey All Candidates Forum
DESCRIPTION:Meet your Beaches-East York Candidates! \nDate: Monday\, February 24\, 2025\nTime: 6:30 pm to 8:30 pm\nNEW Location: Town Hall\, 5 Massey Square \nMeet your provincial candidates and hear about their priorities. We will be asking the candidates questions from the community in a moderated Q&A style forum. Be Vote-Ready! \nSubmit your question online here:\nbit.ly/taylor-massey-candidates \nFor information on voting\, please visit www.elections.on.ca \nThis event is hosted by the Flemingdon Thorncliffe Inter Agency Network (FITAN)
URL:https://www.donvalleylegal.ca/event/taylor-massey-all-candidates-forum/
LOCATION:Crescent Town Club\, 2A The Market Place\, Toronto
ATTACH;FMTTYPE=image/png:https://www.donvalleylegal.ca/wp-content/uploads/2025/02/Taylor-Massey-Election-Forum-Feb-24-2024.png
END:VEVENT
BEGIN:VEVENT
DTSTART;TZID=America/Toronto:20250225T120000
DTEND;TZID=America/Toronto:20250225T130000
DTSTAMP:20260421T100342
CREATED:20250221T183759Z
LAST-MODIFIED:20250221T183759Z
UID:3633-1740484800-1740488400@www.donvalleylegal.ca
SUMMARY:ISAC's Provincial Election Forum on Income Security
DESCRIPTION:February 25\, 2025 at 12:00 pm \nZoom registration: https://us02web.zoom.us/webinar/register/8017398970493/WN_8pKP-zeeS–s-_0upfJHvw#/registration \nJoin the Income Security Advocacy Centre on February 25\, 2025\, at our Provincial Election Forum on Income Security. \nThe Forum will include panelists Aislinn Clancy (Green Party)\, John Fraser (Liberal Party)\, and Lise Vaugeois (NDP). Michael Parsa from the Progressive Conservative Party has also been invited. \nThe Forum will be moderated by Kat Eschner\, a science and business journalist based in Toronto\, who writes and produces television on current affairs\, affordability issues\, and disinformation\, for TVO. \nPanelists will be asked questions on their party’s positions on a range of income security-related policies; on systemic issues facing low waged workers and people receiving social assistance; and their plans on eliminating poverty for people in Ontario. \nThis is a public event but we are prioritizing attendance for community legal clinic clients and staff. The Forum will be recorded and posted to our website shortly afterwards.
URL:https://www.donvalleylegal.ca/event/isacs-provincial-election-forum-on-income-security/
LOCATION:Ontario
ATTACH;FMTTYPE=image/png:https://www.donvalleylegal.ca/wp-content/uploads/2025/02/ISAC-Income-Security-Election-Forum-public-flyer.png
END:VEVENT
END:VCALENDAR