BEGIN:VCALENDAR
VERSION:2.0
PRODID:-//Don Valley Community Legal Services - ECPv6.15.16//NONSGML v1.0//EN
CALSCALE:GREGORIAN
METHOD:PUBLISH
X-WR-CALNAME:Don Valley Community Legal Services
X-ORIGINAL-URL:https://www.donvalleylegal.ca
X-WR-CALDESC:Events for Don Valley Community Legal Services
REFRESH-INTERVAL;VALUE=DURATION:PT1H
X-Robots-Tag:noindex
X-PUBLISHED-TTL:PT1H
BEGIN:VTIMEZONE
TZID:America/Toronto
BEGIN:DAYLIGHT
TZOFFSETFROM:-0500
TZOFFSETTO:-0400
TZNAME:EDT
DTSTART:20230312T070000
END:DAYLIGHT
BEGIN:STANDARD
TZOFFSETFROM:-0400
TZOFFSETTO:-0500
TZNAME:EST
DTSTART:20231105T060000
END:STANDARD
BEGIN:DAYLIGHT
TZOFFSETFROM:-0500
TZOFFSETTO:-0400
TZNAME:EDT
DTSTART:20240310T070000
END:DAYLIGHT
BEGIN:STANDARD
TZOFFSETFROM:-0400
TZOFFSETTO:-0500
TZNAME:EST
DTSTART:20241103T060000
END:STANDARD
BEGIN:DAYLIGHT
TZOFFSETFROM:-0500
TZOFFSETTO:-0400
TZNAME:EDT
DTSTART:20250309T070000
END:DAYLIGHT
BEGIN:STANDARD
TZOFFSETFROM:-0400
TZOFFSETTO:-0500
TZNAME:EST
DTSTART:20251102T060000
END:STANDARD
END:VTIMEZONE
BEGIN:VEVENT
DTSTART;TZID=America/Toronto:20241203T130000
DTEND;TZID=America/Toronto:20241203T160000
DTSTAMP:20260421T132441
CREATED:20241120T162716Z
LAST-MODIFIED:20241120T162716Z
UID:3535-1733230800-1733241600@www.donvalleylegal.ca
SUMMARY:Free Pop-Up Legal Clinic at the Crescent Town Club
DESCRIPTION:Date: Tuesday\, December 3\, 2024\nTime: 1:00 PM to 4:00 PM\nLocation: Crescent Town Club\, 2A The Market Place\, Meeting Room\, Basement \nLawyers from Don Valley Community Legal Services will be able to meet with residents about Housing Law (for tenants) and Income Supports (ODSP\, OW\, CPP\, OAS) only. \nWe are accepting walk-ins\, no appointments needed. It will be first come\, first served. Please bring your ID and documents. Please wait outside the room until your turn. \nIf you have accessibility needs\, please go to the back door and press the bell. Reception will open the door to the Club.
URL:https://www.donvalleylegal.ca/event/free-pop-up-legal-clinic-at-the-crescent-town-club/
LOCATION:Crescent Town Club\, 2A The Market Place\, Toronto
ATTACH;FMTTYPE=image/png:https://www.donvalleylegal.ca/wp-content/uploads/2024/11/Pop-Up-Clinic-December-3-2024.png
END:VEVENT
BEGIN:VEVENT
DTSTART;TZID=America/Toronto:20241203T183000
DTEND;TZID=America/Toronto:20241203T200000
DTSTAMP:20260421T132441
CREATED:20241107T181223Z
LAST-MODIFIED:20241107T181646Z
UID:3510-1733250600-1733256000@www.donvalleylegal.ca
SUMMARY:Income Supports Workshop with Queen/Saulter Library
DESCRIPTION:Date: Tuesday\, December 3\, 2024\nTime: 6:30 pm to 8:00 pm\nLocation: Ralph Thornton Community Centre\, 765 Queen St. East\, 3rd Floor \nThis free workshop with a lawyer from our community legal clinic will cover the following topics: \n\nOntario Disability Support Program (ODSP)\nOntario Works (OW)\nCanada Pension Plan (CPP)\nOld Age Security (OAS)\nQ&A\n\nEveryone is welcome to attend!
URL:https://www.donvalleylegal.ca/event/income-supports-workshop-with-queen-saulter-library/
LOCATION:Ralph Thornton Community Centre\, 765 Queen Street East\, Toronto\, Ontario\, M4M 1H3
ATTACH;FMTTYPE=image/png:https://www.donvalleylegal.ca/wp-content/uploads/2024/11/DVCLS-x-TPL-Income-Supports-Workshop-Dec-3-2024.png
END:VEVENT
END:VCALENDAR