BEGIN:VCALENDAR
VERSION:2.0
PRODID:-//Don Valley Community Legal Services - ECPv6.15.16//NONSGML v1.0//EN
CALSCALE:GREGORIAN
METHOD:PUBLISH
X-ORIGINAL-URL:https://www.donvalleylegal.ca
X-WR-CALDESC:Events for Don Valley Community Legal Services
REFRESH-INTERVAL;VALUE=DURATION:PT1H
X-Robots-Tag:noindex
X-PUBLISHED-TTL:PT1H
BEGIN:VTIMEZONE
TZID:America/Toronto
BEGIN:DAYLIGHT
TZOFFSETFROM:-0500
TZOFFSETTO:-0400
TZNAME:EDT
DTSTART:20230312T070000
END:DAYLIGHT
BEGIN:STANDARD
TZOFFSETFROM:-0400
TZOFFSETTO:-0500
TZNAME:EST
DTSTART:20231105T060000
END:STANDARD
BEGIN:DAYLIGHT
TZOFFSETFROM:-0500
TZOFFSETTO:-0400
TZNAME:EDT
DTSTART:20240310T070000
END:DAYLIGHT
BEGIN:STANDARD
TZOFFSETFROM:-0400
TZOFFSETTO:-0500
TZNAME:EST
DTSTART:20241103T060000
END:STANDARD
BEGIN:DAYLIGHT
TZOFFSETFROM:-0500
TZOFFSETTO:-0400
TZNAME:EDT
DTSTART:20250309T070000
END:DAYLIGHT
BEGIN:STANDARD
TZOFFSETFROM:-0400
TZOFFSETTO:-0500
TZNAME:EST
DTSTART:20251102T060000
END:STANDARD
END:VTIMEZONE
BEGIN:VEVENT
DTSTART;TZID=America/Toronto:20241102T140000
DTEND;TZID=America/Toronto:20241102T153000
DTSTAMP:20260421T144221
CREATED:20241030T172746Z
LAST-MODIFIED:20241030T172746Z
UID:3490-1730556000-1730561400@www.donvalleylegal.ca
SUMMARY:Tenants' Rights Workshop with the Queen/Saulter Library
DESCRIPTION:Date: Saturday\, November 2\, 2024\nTime: 2:00 pm to 3:30 pm\nLocation: Ralph Thornton Community Centre\, 765 Queen St. East\, Foundation Room (basement) \nThis free workshop with a housing lawyer from our community legal clinic will cover the following topics: \nTenant & landlord rights and responsibilities \n\nMaintenance and repairs\nRent increases and AGIs (Above Guideline Increases)\nPrivacy and harassment\nTenant applications\nTenant resources\nQ&A\n\nEveryone is welcome to attend!
URL:https://www.donvalleylegal.ca/event/tenants-rights-workshop-with-the-queen-saulter-library/
LOCATION:Ralph Thornton Community Centre\, 765 Queen Street East\, Toronto\, Ontario\, M4M 1H3
ATTACH;FMTTYPE=image/png:https://www.donvalleylegal.ca/wp-content/uploads/2024/10/DVCLS-x-TPL-Tenants-Rights-Workshop-November-2-2024.png
END:VEVENT
BEGIN:VEVENT
DTSTART;TZID=America/Toronto:20241112T183000
DTEND;TZID=America/Toronto:20241112T200000
DTSTAMP:20260421T144221
CREATED:20241107T181440Z
LAST-MODIFIED:20241107T181440Z
UID:3513-1731436200-1731441600@www.donvalleylegal.ca
SUMMARY:Wills and Powers of Attorney Workshop with Queen/Saulter Library
DESCRIPTION:Date: Tuesday\, November 12\, 2024\nTime: 6:30 pm to 8:00 pm\nLocation: Ralph Thornton Community Centre\, 765 Queen St. East\, 3rd Floor \nJoin this free workshop with a paralegal from our community legal clinic to learn about wills and powers of attorney. \n*Please note this is a workshop to provide legal information only. DVCLS does not assist clients with drafting wills or powers of attorney. \nEveryone is welcome to attend!
URL:https://www.donvalleylegal.ca/event/wills-and-powers-of-attorney-workshop-with-queen-saulter-library/
LOCATION:Ralph Thornton Community Centre\, 765 Queen Street East\, Toronto\, Ontario\, M4M 1H3
ATTACH;FMTTYPE=image/png:https://www.donvalleylegal.ca/wp-content/uploads/2024/11/DVCLS-x-TPL-Wills-and-POA-Workshop-Nov-12-2024-1.png
END:VEVENT
BEGIN:VEVENT
DTSTART;TZID=America/Toronto:20241120T183000
DTEND;TZID=America/Toronto:20241120T200000
DTSTAMP:20260421T144221
CREATED:20241106T215435Z
LAST-MODIFIED:20241106T215435Z
UID:3507-1732127400-1732132800@www.donvalleylegal.ca
SUMMARY:Legal Information Webinar: Sponsorship\, Super Visas and Family Reunification
DESCRIPTION:Hosted by Don Valley Community Legal Services \nPlease register for the Zoom here \nDate: Wednesday\, November 20\, 2024\nTime: 6:30 pm to 8:00 pm \nHear from our Immigration Lawyers about the following topics: \n\nParent/grandparent sponsorship\nFamily sponsorship\nSuper visas\nFamily reunification\n\nPlease note we will not be providing legal advice on this webinar\, only legal information. \nWe will have a Q&A towards the end of the webinar and attendees can submit their questions using the Q&A feature on Zoom. \nIf you need further information or need legal advice\, please call our Intake Line at 416-441-1764 ext. 1
URL:https://www.donvalleylegal.ca/event/legal-information-webinar-sponsorship-super-visas-and-family-reunification/
LOCATION:Ontario
ATTACH;FMTTYPE=image/png:https://www.donvalleylegal.ca/wp-content/uploads/2024/11/Legal-Information-Webinar-Sponsorship-Visas-and-Family-Reunification.png
END:VEVENT
END:VCALENDAR