BEGIN:VCALENDAR
VERSION:2.0
PRODID:-//Don Valley Community Legal Services - ECPv6.15.16//NONSGML v1.0//EN
CALSCALE:GREGORIAN
METHOD:PUBLISH
X-ORIGINAL-URL:https://www.donvalleylegal.ca
X-WR-CALDESC:Events for Don Valley Community Legal Services
REFRESH-INTERVAL;VALUE=DURATION:PT1H
X-Robots-Tag:noindex
X-PUBLISHED-TTL:PT1H
BEGIN:VTIMEZONE
TZID:America/Toronto
BEGIN:DAYLIGHT
TZOFFSETFROM:-0500
TZOFFSETTO:-0400
TZNAME:EDT
DTSTART:20230312T070000
END:DAYLIGHT
BEGIN:STANDARD
TZOFFSETFROM:-0400
TZOFFSETTO:-0500
TZNAME:EST
DTSTART:20231105T060000
END:STANDARD
BEGIN:DAYLIGHT
TZOFFSETFROM:-0500
TZOFFSETTO:-0400
TZNAME:EDT
DTSTART:20240310T070000
END:DAYLIGHT
BEGIN:STANDARD
TZOFFSETFROM:-0400
TZOFFSETTO:-0500
TZNAME:EST
DTSTART:20241103T060000
END:STANDARD
BEGIN:DAYLIGHT
TZOFFSETFROM:-0500
TZOFFSETTO:-0400
TZNAME:EDT
DTSTART:20250309T070000
END:DAYLIGHT
BEGIN:STANDARD
TZOFFSETFROM:-0400
TZOFFSETTO:-0500
TZNAME:EST
DTSTART:20251102T060000
END:STANDARD
END:VTIMEZONE
BEGIN:VEVENT
DTSTART;TZID=America/Toronto:20241005T140000
DTEND;TZID=America/Toronto:20241005T190000
DTSTAMP:20260421T162329
CREATED:20241003T184717Z
LAST-MODIFIED:20241003T184717Z
UID:3435-1728136800-1728154800@www.donvalleylegal.ca
SUMMARY:FTIAN Fall Festival
DESCRIPTION:Join us for the Flemingdon Thorncliffe Inter-Agency Network (FTIAN) Fall Festival! \nDate: Saturday\, October 5\, 2024 \nTime: 2:00 PM – 7:00 PM \nLocation: Go-Green Youth Centre\, 130 Overlea Blvd  \nBring your friends and family for a day of fun\, local flavors\, and festive vibes!
URL:https://www.donvalleylegal.ca/event/ftian-fall-festival/
LOCATION:Go Green Youth Centre\, 130 Overlea Blvd\, Toronto\, ON\, M3C 1B2
END:VEVENT
BEGIN:VEVENT
DTSTART;TZID=America/Toronto:20241021T180000
DTEND;TZID=America/Toronto:20241021T203000
DTSTAMP:20260421T162329
CREATED:20241008T192729Z
LAST-MODIFIED:20241008T192729Z
UID:3446-1729533600-1729542600@www.donvalleylegal.ca
SUMMARY:Thorncliffe Park Election Forum - Ward 15 By-Election
DESCRIPTION:Meet your Ward 15 City Councillor By-Election candidates! \nDate: Monday\, October 21\, 2024\nTime: 6:00 pm to 8:30 pm\nLocation: Jenner Jean-Marie Community Centre\, Gym\, 48 Thorncliffe Park Drive \nMeet your candidates and hear about their priorities. We will be asking the candidates questions from the community in a moderated Q&A style forum. Meet and greet from 6:00 pm to 6:30 pm \nSubmit your question online here:\nbit.ly/ward15forum \nFor information on voting\, please visit www.toronto.ca/elections\nAdvance Vote is October 26-27 from 10 a.m. to 7 p.m.\nElection Day is November 4 with voting places open from 10 a.m. to 8 p.m.
URL:https://www.donvalleylegal.ca/event/thorncliffe-park-election-forum-ward-15-by-election/
LOCATION:Jenner Jean-Marie Community Centre\, 48 Thorncliffe Park Drive\, Toronto\, ON\, M4H 1J7
ATTACH;FMTTYPE=image/png:https://www.donvalleylegal.ca/wp-content/uploads/2024/10/Election-Forum-October-21-2024.png
END:VEVENT
BEGIN:VEVENT
DTSTART;TZID=America/Toronto:20241024T180000
DTEND;TZID=America/Toronto:20241024T193000
DTSTAMP:20260421T162329
CREATED:20240913T151244Z
LAST-MODIFIED:20241003T181619Z
UID:3420-1729792800-1729798200@www.donvalleylegal.ca
SUMMARY:Annual General Meeting 2024
DESCRIPTION:Please join us for our Annual General meeting on October 24th. Hear from our staff directly about our work over the past year.\n \nDate: Thursday\, October 24\, 2024\nTime: 6:00 pm to 7:30 pm (Doors open 5:30 pm)\nLocation: Thorncliffe Park Youth Wellness Hub\, East York Town Centre\, 45 Overlea Blvd.\nRSVP: Please register online here\n\n  \nA livestream of the AGM will be available via Zoom (virtual attendees will not be able to vote).\n\nAGM packages\, which will include our annual report and the Zoom link\, will be sent out to those who RSVP’d ahead of the meeting date. \nMembers in good standing are able to vote at the AGM. You can find our membership form and more details on our website: www.DonValleyLegal.ca/members \nIf you have any questions\, please contact our Community Development Worker at laura.anonen@dvcls.clcj.ca.
URL:https://www.donvalleylegal.ca/event/annual-general-meeting-2024/
LOCATION:Ontario
ATTACH;FMTTYPE=image/png:https://www.donvalleylegal.ca/wp-content/uploads/2024/09/DVCLS-AGM-2024-Flyer.png
END:VEVENT
END:VCALENDAR