BEGIN:VCALENDAR
VERSION:2.0
PRODID:-//Don Valley Community Legal Services - ECPv6.15.16//NONSGML v1.0//EN
CALSCALE:GREGORIAN
METHOD:PUBLISH
X-ORIGINAL-URL:https://www.donvalleylegal.ca
X-WR-CALDESC:Events for Don Valley Community Legal Services
REFRESH-INTERVAL;VALUE=DURATION:PT1H
X-Robots-Tag:noindex
X-PUBLISHED-TTL:PT1H
BEGIN:VTIMEZONE
TZID:America/Toronto
BEGIN:DAYLIGHT
TZOFFSETFROM:-0500
TZOFFSETTO:-0400
TZNAME:EDT
DTSTART:20230312T070000
END:DAYLIGHT
BEGIN:STANDARD
TZOFFSETFROM:-0400
TZOFFSETTO:-0500
TZNAME:EST
DTSTART:20231105T060000
END:STANDARD
BEGIN:DAYLIGHT
TZOFFSETFROM:-0500
TZOFFSETTO:-0400
TZNAME:EDT
DTSTART:20240310T070000
END:DAYLIGHT
BEGIN:STANDARD
TZOFFSETFROM:-0400
TZOFFSETTO:-0500
TZNAME:EST
DTSTART:20241103T060000
END:STANDARD
BEGIN:DAYLIGHT
TZOFFSETFROM:-0500
TZOFFSETTO:-0400
TZNAME:EDT
DTSTART:20250309T070000
END:DAYLIGHT
BEGIN:STANDARD
TZOFFSETFROM:-0400
TZOFFSETTO:-0500
TZNAME:EST
DTSTART:20251102T060000
END:STANDARD
END:VTIMEZONE
BEGIN:VEVENT
DTSTART;TZID=America/Toronto:20240608T120000
DTEND;TZID=America/Toronto:20240608T180000
DTSTAMP:20260421T225500
CREATED:20240531T172612Z
LAST-MODIFIED:20240531T172612Z
UID:3235-1717848000-1717869600@www.donvalleylegal.ca
SUMMARY:Riverside Eats and Beats Streetfest 2024
DESCRIPTION:The Riverside Eats & Beats Streetfest will be back on Saturday\, June 8th\, 12-6 pm! There will be free live music and activities at five local street closures and two parks\, paired with local food and retail sidewalk sales! DVCLS will have a table with free resources and activities on Saulter street by the Ralph Thornton Community Centre. \nThe festival will span 10 vibrant blocks along Queen Street East between Davies Ave at the Don Valley\, to Empire Ave\, just past the world-famous De Grassi Street. The 10th Riverside Eats & Beats Streetfest 2024 will showcase \n\n50+ local eateries and shops along Queen Street East serving up food specials and sidewalk sales\nDestination points at five street closures and two local parks including free games and activities\, beer gardens\, culinary delights\, and free live music ranging from Samba\, New Orleans-style Jazz\, Steel Pan\, Blues and Children’s entertainment.\n\nQueen Street East will remain open throughout the festival. \nLearn more: https://riverside-to.com/events/riverside-eats-beats-streetfest/
URL:https://www.donvalleylegal.ca/event/riverside-eats-and-beats-streetfest-2024/
LOCATION:Ontario
END:VEVENT
BEGIN:VEVENT
DTSTART;TZID=America/Toronto:20240613T183000
DTEND;TZID=America/Toronto:20240613T200000
DTSTAMP:20260421T225500
CREATED:20240522T211307Z
LAST-MODIFIED:20240604T211707Z
UID:3209-1718303400-1718308800@www.donvalleylegal.ca
SUMMARY:Tenants' Rights Workshop with the Queen/Saulter Library
DESCRIPTION:Date: Thursday\, June 13\, 2024\nTime: 6:30 pm to 8:00 pm\nLocation: Ralph Thornton Community Centre\, 765 Queen St. East\, Jim Houston Community Room (Third Floor) \nThis free workshop with a housing lawyer from our community legal clinic will cover the following topics: \n\nTenant & landlord rights and responsibilities\nMaintenance and repairs\nRent increases and AGIs (Above Guideline Increases)\nPrivacy and harassment\nTenant applications\nTenant resources\nQ&A\n\nEveryone is welcome to attend!
URL:https://www.donvalleylegal.ca/event/tenants-rights-workshop-at-queen-saulter-library/
LOCATION:Ralph Thornton Community Centre\, 765 Queen Street East\, Toronto\, Ontario\, M4M 1H3
ATTACH;FMTTYPE=image/png:https://www.donvalleylegal.ca/wp-content/uploads/2024/05/DVCLS-x-TPL-Tenants-Rights-Workshop-June-13.png
END:VEVENT
BEGIN:VEVENT
DTSTART;TZID=America/Toronto:20240619T130000
DTEND;TZID=America/Toronto:20240619T143000
DTSTAMP:20260421T225500
CREATED:20240527T151140Z
LAST-MODIFIED:20240611T141053Z
UID:3215-1718802000-1718807400@www.donvalleylegal.ca
SUMMARY:POSTPONED - Income Supports Workshop in Cantonese with the Queen/Saulter Library
DESCRIPTION:***THIS WORKSHOP HAS BEEN CANCELLED AND WILL BE RESCHEUDLED TO ANOTHER DATE*** \nDate: Wednesday\, June 19\, 2024\nTime: 1:00 pm to 2:30 pm\nLocation: Ralph Thornton Community Centre\, 765 Queen St. East\, Jim Houston Community Room (Third Floor) \n**This workshop will be in Cantonese** \nThis free workshop with a lawyer from our community legal clinic will cover the following topics: \n\nOntario Disability Support Program (ODSP)\nOntario Works (OW)\nCanada Pension Plan (CPP)\nOld Age Security (OAS)\nQ&A\n\n  \n日期：2024年6月19日（星期三） \n时间：下午1:00至2:30 \nLocation: Ralph Thornton Community Centre\, 765 Queen St. East\, Jim Houston Community Room (Third Floor) \n工作坊将以广东话进行 \n此次免费工作坊邀请到了社区法律诊所的律师，将涵盖以下主题： \n· 安省残障支持计划（ODSP） \n· 安省工作计划（OW） \n· 加拿大退休金计划（CCP） \n· 老年保障金（OAS） \n· 问答环节
URL:https://www.donvalleylegal.ca/event/income-supports-workshop-in-cantonese-at-queen-saulter-library/
LOCATION:Ralph Thornton Community Centre\, 765 Queen Street East\, Toronto\, Ontario\, M4M 1H3
END:VEVENT
BEGIN:VEVENT
DTSTART;TZID=America/Toronto:20240620T183000
DTEND;TZID=America/Toronto:20240620T200000
DTSTAMP:20260421T225500
CREATED:20240527T151410Z
LAST-MODIFIED:20240604T211822Z
UID:3218-1718908200-1718913600@www.donvalleylegal.ca
SUMMARY:Income Supports Workshop in English with the Queen/Saulter Library
DESCRIPTION:Date: Thursday\, June 20\, 2024\nTime: 6:30 pm to 8:00 pm\nLocation: Ralph Thornton Community Centre\, 765 Queen St. East\, Jim Houston Community Room (Third Floor) \nThis workshop will be in English \nThis free workshop with a lawyer from our community legal clinic will cover the following topics: \n\nOntario Disability Support Program (ODSP)\nOntario Works (OW)\nCanada Pension Plan (CPP)\nOld Age Security (OAS)\nChild Tax Benefits\nQ&A\n\nEveryone is welcome to attend!
URL:https://www.donvalleylegal.ca/event/income-supports-workshop-at-queen-saulter-library/
LOCATION:Ralph Thornton Community Centre\, 765 Queen Street East\, Toronto\, Ontario\, M4M 1H3
END:VEVENT
BEGIN:VEVENT
DTSTART;TZID=America/Toronto:20240624T180000
DTEND;TZID=America/Toronto:20240624T200000
DTSTAMP:20260421T225500
CREATED:20240613T144528Z
LAST-MODIFIED:20240613T144528Z
UID:3277-1719252000-1719259200@www.donvalleylegal.ca
SUMMARY:Tenant Town Hall: Rent Increases
DESCRIPTION:Date: Monday\, June 24\, 2024\nTime: 6:00 pm to 8:00 pm\nLocation: Jenner Jean-Marie Community Centre\, 48 Thorncliffe Park Drive \nJoin us for this free town hall to discuss and learn about: \n\nRent increases and AGIs (Above Guideline Increases)\nTenants’ rights\nHow to fight an AGI\nTenant resources\nQuestion and Answer session\n\nEveryone is welcome to attend! \nThis Town Hall is supported by Don Valley Community Legal Services\, the Federation of Metro Tenants’ Associations (FMTA)\, and the Thorncliffe Park – Flemingdon Park Tenants Network.
URL:https://www.donvalleylegal.ca/event/tenant-town-hall-rent-increases/
LOCATION:Jenner Jean-Marie Community Centre\, 48 Thorncliffe Park Drive\, Toronto\, ON\, M4H 1J7
ATTACH;FMTTYPE=image/png:https://www.donvalleylegal.ca/wp-content/uploads/2024/06/Tenant-Town-Hall-June-24.png
END:VEVENT
END:VCALENDAR