BEGIN:VCALENDAR
VERSION:2.0
PRODID:-//Don Valley Community Legal Services - ECPv6.15.16//NONSGML v1.0//EN
CALSCALE:GREGORIAN
METHOD:PUBLISH
X-WR-CALNAME:Don Valley Community Legal Services
X-ORIGINAL-URL:https://www.donvalleylegal.ca
X-WR-CALDESC:Events for Don Valley Community Legal Services
REFRESH-INTERVAL;VALUE=DURATION:PT1H
X-Robots-Tag:noindex
X-PUBLISHED-TTL:PT1H
BEGIN:VTIMEZONE
TZID:America/Toronto
BEGIN:DAYLIGHT
TZOFFSETFROM:-0500
TZOFFSETTO:-0400
TZNAME:EDT
DTSTART:20230312T070000
END:DAYLIGHT
BEGIN:STANDARD
TZOFFSETFROM:-0400
TZOFFSETTO:-0500
TZNAME:EST
DTSTART:20231105T060000
END:STANDARD
BEGIN:DAYLIGHT
TZOFFSETFROM:-0500
TZOFFSETTO:-0400
TZNAME:EDT
DTSTART:20240310T070000
END:DAYLIGHT
BEGIN:STANDARD
TZOFFSETFROM:-0400
TZOFFSETTO:-0500
TZNAME:EST
DTSTART:20241103T060000
END:STANDARD
BEGIN:DAYLIGHT
TZOFFSETFROM:-0500
TZOFFSETTO:-0400
TZNAME:EDT
DTSTART:20250309T070000
END:DAYLIGHT
BEGIN:STANDARD
TZOFFSETFROM:-0400
TZOFFSETTO:-0500
TZNAME:EST
DTSTART:20251102T060000
END:STANDARD
END:VTIMEZONE
BEGIN:VEVENT
DTSTART;TZID=America/Toronto:20240226T180000
DTEND;TZID=America/Toronto:20240226T193000
DTSTAMP:20260422T051932
CREATED:20240207T161806Z
LAST-MODIFIED:20240215T175915Z
UID:3047-1708970400-1708975800@www.donvalleylegal.ca
SUMMARY:How the Canadian Immigration System is Responding to Crises: Iran\, Sudan\, Gaza and Beyond
DESCRIPTION:Hear from our Immigration Lawyer about Canada’s new programs and get your questions answered. \nMonday\, February 26\, 2024\n6:00 pm to 7:30 pm \nThis webinar is taking place on Zoom. Please register in advance: https://ca01web.zoom.us/webinar/register/WN_ddZWJTRiRTmXhe-rNVf6jA#/registration \nWe are not able to answer questions about specific cases and can only provide legal information\, not legal advice\, through this webinar. If you require legal advice\, please call our Intake Line at 416-441-1764 ext. 1.
URL:https://www.donvalleylegal.ca/event/how-the-canadian-immigration-system-is-responding-to-crises/
LOCATION:Ontario
ATTACH;FMTTYPE=image/png:https://www.donvalleylegal.ca/wp-content/uploads/2024/02/Poster-How-the-Canadian-Immigration-System-is-Responding-to-Crises.png
END:VEVENT
BEGIN:VEVENT
DTSTART;TZID=America/Toronto:20240228T110000
DTEND;TZID=America/Toronto:20240228T140000
DTSTAMP:20260422T051932
CREATED:20240101T145252Z
LAST-MODIFIED:20240201T150921Z
UID:3012-1709118000-1709128800@www.donvalleylegal.ca
SUMMARY:TNO Seniors Health and Wellness Fair 2024
DESCRIPTION:Wednesday\, February 28\, 2024 from 11:00am – 2:00pm \nJenner Jean-Marie Community Centre\n48 Thorncliffe Park Drive\nToronto\, ON\, M4H 1J7\n(Lower Level) \nFor more information contact: \nElaine Tountas\n416-424-2900 Ext. 4704\netountas@tno-toronto.org \nAdil Patel\n416-424-2900 Ext. 4703\napatel@tno-toronto.org
URL:https://www.donvalleylegal.ca/event/tno-seniors-health-and-wellness-fair-2024/
LOCATION:Jenner Jean-Marie Community Centre\, 48 Thorncliffe Park Drive\, Toronto\, ON\, M4H 1J7
ATTACH;FMTTYPE=image/jpeg:https://www.donvalleylegal.ca/wp-content/uploads/2024/02/Health-Fair-Flyer-February-28-2024-page-001.jpg
END:VEVENT
BEGIN:VEVENT
DTSTART;TZID=America/Toronto:20240229T093000
DTEND;TZID=America/Toronto:20240229T143000
DTSTAMP:20260422T051932
CREATED:20240201T151133Z
LAST-MODIFIED:20240201T151200Z
UID:3016-1709199000-1709217000@www.donvalleylegal.ca
SUMMARY:Seniors Active Living Fair - hosted by SRCHC
DESCRIPTION:Thursday\, February 29\, 2024\n9:30 am—2:30 pm\n2A The Market Place (Crescent Town Club) \nFor more information:\nNazly at nsultana@srchc.com\, 647-233-4898 or\nLydia at Lsun@srchc.com\, 416-752-0101 ext. 4221
URL:https://www.donvalleylegal.ca/event/seniors-active-living-fair-hosted-by-srchc/
LOCATION:Crescent Town Club\, 2A The Market Place\, Toronto
END:VEVENT
BEGIN:VEVENT
DTSTART;TZID=America/Toronto:20240229T163000
DTEND;TZID=America/Toronto:20240229T193000
DTSTAMP:20260422T051932
CREATED:20240214T202141Z
LAST-MODIFIED:20240214T202141Z
UID:3060-1709224200-1709235000@www.donvalleylegal.ca
SUMMARY:WoodGreen Community Wellness Event
DESCRIPTION:Date: Thursday\, February 29th\, 2024\nTime: 4:30-7:30 PM\nVenue: Secord Elementary School\, 101 Barrington Ave\, East York\, \nInteractive activities\, entertainment for youth and kids\, prizes\, information booths and dinner will be provided.
URL:https://www.donvalleylegal.ca/event/woodgreen-community-wellness-event/
LOCATION:Secord Elementary School\, 101 Barrington Ave\, Toronto
END:VEVENT
END:VCALENDAR