BEGIN:VCALENDAR
VERSION:2.0
PRODID:-//Don Valley Community Legal Services - ECPv6.15.16//NONSGML v1.0//EN
CALSCALE:GREGORIAN
METHOD:PUBLISH
X-ORIGINAL-URL:https://www.donvalleylegal.ca
X-WR-CALDESC:Events for Don Valley Community Legal Services
REFRESH-INTERVAL;VALUE=DURATION:PT1H
X-Robots-Tag:noindex
X-PUBLISHED-TTL:PT1H
BEGIN:VTIMEZONE
TZID:America/Toronto
BEGIN:DAYLIGHT
TZOFFSETFROM:-0500
TZOFFSETTO:-0400
TZNAME:EDT
DTSTART:20220313T070000
END:DAYLIGHT
BEGIN:STANDARD
TZOFFSETFROM:-0400
TZOFFSETTO:-0500
TZNAME:EST
DTSTART:20221106T060000
END:STANDARD
BEGIN:DAYLIGHT
TZOFFSETFROM:-0500
TZOFFSETTO:-0400
TZNAME:EDT
DTSTART:20230312T070000
END:DAYLIGHT
BEGIN:STANDARD
TZOFFSETFROM:-0400
TZOFFSETTO:-0500
TZNAME:EST
DTSTART:20231105T060000
END:STANDARD
BEGIN:DAYLIGHT
TZOFFSETFROM:-0500
TZOFFSETTO:-0400
TZNAME:EDT
DTSTART:20240310T070000
END:DAYLIGHT
BEGIN:STANDARD
TZOFFSETFROM:-0400
TZOFFSETTO:-0500
TZNAME:EST
DTSTART:20241103T060000
END:STANDARD
END:VTIMEZONE
BEGIN:VEVENT
DTSTART;TZID=America/Toronto:20230606T163000
DTEND;TZID=America/Toronto:20230606T190000
DTSTAMP:20260422T183041
CREATED:20230531T153649Z
LAST-MODIFIED:20230531T153649Z
UID:2587-1686069000-1686078000@www.donvalleylegal.ca
SUMMARY:Thorncliffe & Flemingdon Civic Engagement Forum
DESCRIPTION:Join us for a fun and exciting evening to chat about what is important to our community and voting for our next Mayor. \nTuesday\, June 6\, 2023\n|4:30 pm to 7:00 pm\nThorncliffe Park Community Hub\, 45 Overlea Blvd\, 2nd floor (Entrance 6) \nRegister in advance online here: bit.ly/cwlforum \nFirst 50 people in attendance will receive a free gift card! Free food & fun activities! \nGet engaged and learn about: \n\nHow and where to vote\nHow we can increase voter turnout\nWho are the candidates\nWhat questions to ask candidates
URL:https://www.donvalleylegal.ca/event/thorncliffe-flemingdon-civic-engagement-forum/
LOCATION:Thorncliffe Park Community Hub\, 45 Overlea Blvd\, Toronto\, ON\, M4H 1C3
END:VEVENT
BEGIN:VEVENT
DTSTART;TZID=America/Toronto:20230608T130000
DTEND;TZID=America/Toronto:20230608T143000
DTSTAMP:20260422T183041
CREATED:20230515T202808Z
LAST-MODIFIED:20230515T203026Z
UID:2538-1686229200-1686234600@www.donvalleylegal.ca
SUMMARY:National Roundtable Virtual Session - Alliance for Racialized Refugee and Im/migrant Women
DESCRIPTION:June 8\, 2023 at 1:00 PM on Zoom\n\nJoin us for the National Roundtable: Building Antiracist Feminist Futures virtual consultation session. In this facilitated conversation\, we will explore the need and feasibility of forming an antiracist feminist alliance. Learn more about this initiative and to share your perspectives on June 8th from 1-2:30pm EST.\n\nRegister on Zoom here: https://us02web.zoom.us/meeting/register/tZIlfu2vrDooEtDhJwuL9SCsoES9GMfwUp1l#/registration\n\nQuestions? Contact lwoolner@ocasi.org
URL:https://www.donvalleylegal.ca/event/national-roundtable-virtual-session-alliance-for-racialized-refugee-and-im-migrant-women/
LOCATION:Ontario
END:VEVENT
BEGIN:VEVENT
DTSTART;TZID=America/Toronto:20230609T151500
DTEND;TZID=America/Toronto:20230609T160000
DTSTAMP:20260422T183041
CREATED:20230529T200536Z
LAST-MODIFIED:20230529T200603Z
UID:2578-1686323700-1686326400@www.donvalleylegal.ca
SUMMARY:Walk with Amal: Thorncliffe
DESCRIPTION:Friday\, June 9th at 3:15 pm \nStarts at Thorncliffe Park Public Library (48 Thorncliffe Pork Drive) \nLearn more: https://luminatofestival.com/event/walk-with-amal-thorncliffe-park/ \nFREE DROP-IN COMMUNITY WORKSHOPS!\nTNO | Wednesday\, May 31st | 11am to 4pm | Thorncliffe Hub 45 Overlea Blvd Entrance #6\nToronto Public Library – Thorncliffe Branch | Thursday\, June 1st 13:30 to 5:30 pm | 48 Thorncliffe Park Drive\nThorncliffe Park Bazaar | Friday\, June 3rd 13 pm to 6 pm | 46 Thorncliffe Park Drive\nEast York Town Centre | Friday\, June 9th | 3:30 pm to 5:00 pm | 45 Overlea Blvd \n  \n 
URL:https://www.donvalleylegal.ca/event/walk-with-amal-thorncliffe/
LOCATION:Ontario
END:VEVENT
BEGIN:VEVENT
DTSTART;VALUE=DATE:20230612
DTEND;VALUE=DATE:20230614
DTSTAMP:20260422T183041
CREATED:20230609T161640Z
LAST-MODIFIED:20230609T161903Z
UID:2607-1686528000-1686700799@www.donvalleylegal.ca
SUMMARY:Ride to the Polls for Advance Vote - Thorncliffe Park & Flemingdon Park
DESCRIPTION:Local agencies are organizing shuttle buses for anyone who needs support to access advance voting locations in Thorncliffe Park and Flemingdon Park June 12 and 13. \nTo register for a ride to vote\, please call 647-531-5290 or complete the online form at: https://forms.gle/EU9uhzmEcGhXXgXW7 \nVoting location for Thorncliffe Park:\nJenner Jean-Marie Community Centre\n48 Thorncliffe Park Drive \nVoting location for Flemingdon Park:\nDennis R. Timbrell Community Centre\n29 St Dennis Drive \nYou do not need a voter card to vote\, you just need to bring a piece of ID (this can be your driver’s license\, a bank statement\, etc. Anything with your name and address – it does not need to be photo ID). You can find more information on the Mayoral election on the City’s website: https://www.toronto.ca/city…/elections/by-election/
URL:https://www.donvalleylegal.ca/event/ride-to-the-polls-for-advance-vote-thorncliffe-park-flemingdon-park/
LOCATION:Ontario
END:VEVENT
BEGIN:VEVENT
DTSTART;TZID=America/Toronto:20230620T170000
DTEND;TZID=America/Toronto:20230620T200000
DTSTAMP:20260422T183041
CREATED:20230613T200051Z
LAST-MODIFIED:20230613T200051Z
UID:2616-1687280400-1687291200@www.donvalleylegal.ca
SUMMARY:Neighbourhood Information Session - June 20\, 2023
DESCRIPTION:Learn about the local agencies in your neighbourhood and the services they provide. This is a free event.\nAttendees can win gift cards and prizes! \nTuesday\, June 20\, 2023\n5:00 pm – 8:00 pm\nMarc Garneau Collegiate Institute\, Cafeteria (135 Overlea Blvd) \nThis event includes a session with Don Valley Community Legal Services on Employment Law and Workers’ Rights! \nRegister online here: https://docs.google.com/forms/d/e/1FAIpQLScB411Hta13jqjAY5wrYNo4p8f49zffon8SEBU0i9qd1nmBbQ/viewform \nQuestions? Contact Madina Nawrozi at flemowalks@fhcteam.com
URL:https://www.donvalleylegal.ca/event/neighbourhood-information-session-june-20-2023/
LOCATION:Marc Garneau Collegiate Institute\, 135 Overlea Blvd\, Toronto
END:VEVENT
END:VCALENDAR