BEGIN:VCALENDAR
VERSION:2.0
PRODID:-//Don Valley Community Legal Services - ECPv6.15.16//NONSGML v1.0//EN
CALSCALE:GREGORIAN
METHOD:PUBLISH
X-ORIGINAL-URL:https://www.donvalleylegal.ca
X-WR-CALDESC:Events for Don Valley Community Legal Services
REFRESH-INTERVAL;VALUE=DURATION:PT1H
X-Robots-Tag:noindex
X-PUBLISHED-TTL:PT1H
BEGIN:VTIMEZONE
TZID:America/Toronto
BEGIN:DAYLIGHT
TZOFFSETFROM:-0500
TZOFFSETTO:-0400
TZNAME:EDT
DTSTART:20220313T070000
END:DAYLIGHT
BEGIN:STANDARD
TZOFFSETFROM:-0400
TZOFFSETTO:-0500
TZNAME:EST
DTSTART:20221106T060000
END:STANDARD
BEGIN:DAYLIGHT
TZOFFSETFROM:-0500
TZOFFSETTO:-0400
TZNAME:EDT
DTSTART:20230312T070000
END:DAYLIGHT
BEGIN:STANDARD
TZOFFSETFROM:-0400
TZOFFSETTO:-0500
TZNAME:EST
DTSTART:20231105T060000
END:STANDARD
BEGIN:DAYLIGHT
TZOFFSETFROM:-0500
TZOFFSETTO:-0400
TZNAME:EDT
DTSTART:20240310T070000
END:DAYLIGHT
BEGIN:STANDARD
TZOFFSETFROM:-0400
TZOFFSETTO:-0500
TZNAME:EST
DTSTART:20241103T060000
END:STANDARD
END:VTIMEZONE
BEGIN:VEVENT
DTSTART;TZID=America/Toronto:20230503T180000
DTEND;TZID=America/Toronto:20230503T200000
DTSTAMP:20260422T202045
CREATED:20230414T151152Z
LAST-MODIFIED:20230414T151152Z
UID:2467-1683136800-1683144000@www.donvalleylegal.ca
SUMMARY:Rent Smart Course - April and May 2023
DESCRIPTION:The Rent Smart Course is facilitated by WoodGreen and these sessions will take place at their office located at 815 Danforth Ave\, First Floor. Light snacks and beverages will be provided. \nSession 1: April 19\, 2023 from 6-8pm \n\nHOUSING SEARCHES\nIDENTIFYING UNITS\nINSPECTING UNITS\nSECURING UNITS\n\nSession 2: April 26\, 2023 from 6-8pm \n\nBUDGETING\nHOUSING BENIFITS\nENERGY CONSERVATION & ENERGY COSTS\n\nSession 3: May 3\, 2023 from 6-8pm (with a guest speaker from Don Valley Community Legal Services) \n\nLANDLORD ENGAGMENT\nRIGHTS & RESPONSIBILITIES\nLEGAL CONSIDERATIONS\nCONTEXTS & RESPONSES\n\nPlease register online in advance:\nhttps://forms.gle/nbfCNc8NQP7ytYo38 \nIf you have any questions\, please contact Will McCarty at 437-925-9879 or wmccarty@woodgreen.org.
URL:https://www.donvalleylegal.ca/event/rent-smart-course-april-and-may-2023/
LOCATION:Ontario
END:VEVENT
BEGIN:VEVENT
DTSTART;TZID=America/Toronto:20230503T181500
DTEND;TZID=America/Toronto:20230503T200000
DTSTAMP:20260422T202045
CREATED:20230424T214915Z
LAST-MODIFIED:20230424T214915Z
UID:2506-1683137700-1683144000@www.donvalleylegal.ca
SUMMARY:Asian and South Asian Heritage Month program
DESCRIPTION:May 3\, 2023\, 6:15 PM to 8:00 PM \nPlease join the Law Society of Ontario and its partners for this year’s virtual program that will examine the socioeconomic disparities associated with the rising cost of living and inflation in the aftermath of the COVID-19 pandemic. Our speakers will discuss the legal and policy implications of these economic disparities and their impact on access to justice and access to legal information and services for members of the Asian and South Asian communities. \nThe program will also highlight two grassroots movements that are working to empower members of Asian and South Asian communities through education\, support\, and advocacy to combat systemic inequality and promote greater equity and justice. Our special guests include representatives from Butterfly\, an organization that supports Asian and migrant sex workers in Toronto and beyond\, and Tareekh pe Tareekh\, a public legal education campaign that educates about basic employment law issues through a series of short videos in several South Asian languages. The guest speakers will share their experience and insights on the challenges faced by these marginalized communities and the vital work being done to improve their lives. \nFeatured speakers \n\nJacqueline Horvat\, Treasurer of the Law Society of Ontario\nDevin Persaud\, President\, South Asian Bar Association of Toronto (SABA)\, and Senior Associate\, Goodmans LLP\nJack Yu\, Director\, Federation of Asian Canadian Lawyers (FACL)\, and Partner\, Fasken Martineau DuMoulin LLP\nJaspal Sangha\, Director\, South Asian Bar Association of Toronto (SABA)\, and Associate\, Margie Strub Construction Law LLP\nVipin Saini\, Executive Director\, Seva Food Bank\nYonit Fuhrmann\, Deputy Director\, Pro Bono Ontario\nVincent Wong\, Assistant Professor\, Faculty of Law\, University of Windsor\, and PhD candidate\, Osgoode Hall Law School\, York University\nElene Lam\, Executive Director\, Butterfly: Asian and Migrant Sex Worker Support Network\, and PhD candidate\, School of Social Work\, McMaster University\nRicha Sandill\, Co-founder\, Tareekh pe Tareekh\, and Staff Lawyer and Employment Law Team Lead\, Don Valley Community Legal Services\nAnchal Bhatia\, Co-founder\, Tareekh pe Tareekh\, and Staff Lawyer\, South Asian Legal Clinic of Ontario\n\nRegister here: https://lso.ca/news-events/events/events-2023/asian-and-south-asian-heritage-month-program
URL:https://www.donvalleylegal.ca/event/asian-and-south-asian-heritage-month-program/
LOCATION:Ontario
END:VEVENT
BEGIN:VEVENT
DTSTART;TZID=America/Toronto:20230504T184500
DTEND;TZID=America/Toronto:20230504T210000
DTSTAMP:20260422T202045
CREATED:20230412T162716Z
LAST-MODIFIED:20230412T162716Z
UID:2450-1683225900-1683234000@www.donvalleylegal.ca
SUMMARY:Tenant Workshop with the Thorncliffe Park – Flemingdon Park Tenants Network (Workshop #2)
DESCRIPTION:The Thorncliffe Park – Flemingdon Park Tenants Network has organized tenant workshops on April 27\, May 4\, May 11 and May 18. Each workshop will take place from 6:45 pm to 9:00 pm at the Jenner Jean-Marie Community Centre (48 Thorncliffe Park Drive). Meet your neighbours\, hear from guest speakers\, complimentary food and drinks! \nPlease register for each workshop on Eventbrite:\nhttps://www.eventbrite.ca/e/tenants-education-workshop-series-spring-2023-tickets-614595540807 \nThe second workshop is on Thursday\, May 4th with speakers from Don Valley Community Legal Services\, the Federation of Metro Tenants’ Associations (FMTA)\, and TNO – The Neighbourhood Organization. Learn about tenant rights and responsibilities and tenant organizing.
URL:https://www.donvalleylegal.ca/event/tenant-workshop-with-the-thorncliffe-park-flemingdon-park-tenants-network-workshop-2/
LOCATION:Jenner Jean-Marie Community Centre\, 48 Thorncliffe Park Drive\, Toronto\, ON\, M4H 1J7
END:VEVENT
BEGIN:VEVENT
DTSTART;TZID=America/Toronto:20230508T100000
DTEND;TZID=America/Toronto:20230508T140000
DTSTAMP:20260422T202045
CREATED:20230503T145150Z
LAST-MODIFIED:20230503T145150Z
UID:2520-1683540000-1683554400@www.donvalleylegal.ca
SUMMARY:Seniors Health and Wellness Fair
DESCRIPTION:Monday\, May 8th\,2023\n10:00am – 2:00pm \nThorncliffe Park Community Hub\n45 Overlea Blvd \, Toronto\, M4H 1C4\n2nd Floor(Entrance beside Galito’s) \nCome join us and receive information regarding health and wellness. \nFor more information contact: \nAdil Patel\n416-424-2900 Ext. 4703\napatel@tno-toronto.org \nElaine Tountas\n416-424-2900 Ext. 4704\netountas@tno-toronto.org
URL:https://www.donvalleylegal.ca/event/seniors-health-and-wellness-fair/
LOCATION:Thorncliffe Park Community Hub\, 45 Overlea Blvd\, Toronto\, ON\, M4H 1C3
END:VEVENT
BEGIN:VEVENT
DTSTART;TZID=America/Toronto:20230525T180000
DTEND;TZID=America/Toronto:20230525T193000
DTSTAMP:20260422T202045
CREATED:20230503T153408Z
LAST-MODIFIED:20230503T153651Z
UID:2523-1685037600-1685043000@www.donvalleylegal.ca
SUMMARY:Housing Law Workshop with Access Alliance - Know Your Rights!
DESCRIPTION:Housing Law Workshop: Know Your Rights! \nPresentation and Q&A from Don Valley Community Legal Services (DVCLS) for newcomers\, immigrants\, and refugees. \nThursday\, May 25th\, 2023 from 6:00pm – 7:30pm on Zoom \nPlease register here:\nhttps://accessalliance.zoom.us/meeting/register/u5Uuc-Grqz4qHtzA84RuCg88TvE3gmNgX45o#/registration \nLearn about tenant & landlord rights and responsibilities\, the Residential Tenancies Act\, and get answers to common housing law questions. \nFor more information\, please contact Inaara at:\niqamber@accessalliance.ca or 416 693 8677 ext. 4229
URL:https://www.donvalleylegal.ca/event/housing-law-workshop-with-access-alliance-know-your-rights/
LOCATION:Ontario
END:VEVENT
BEGIN:VEVENT
DTSTART;TZID=America/Toronto:20230527T110000
DTEND;TZID=America/Toronto:20230527T160000
DTSTAMP:20260422T202045
CREATED:20230509T200301Z
LAST-MODIFIED:20230509T200301Z
UID:2532-1685185200-1685203200@www.donvalleylegal.ca
SUMMARY:Taylor Massey Community Wellness Day
DESCRIPTION:Taylor-Massey Residents Wellness Council welcomes you to the Taylor Massey Community Wellness Day \nSaturday\, May 27 from 11 am to 4 pm\nDentonia Park (west side of the park near the splash pad and cricket field) \nYou’re invited to a free\, family-friendly event with health and wellness activities for people of all ages and interests. \nAll residents of Taylor-Massey are welcome! Come and learn about the programs and services that are offered in our neigbourhood.
URL:https://www.donvalleylegal.ca/event/taylor-massey-community-wellness-day/
LOCATION:Dentonia Park
END:VEVENT
END:VCALENDAR