BEGIN:VCALENDAR
VERSION:2.0
PRODID:-//Don Valley Community Legal Services - ECPv6.15.16//NONSGML v1.0//EN
CALSCALE:GREGORIAN
METHOD:PUBLISH
X-WR-CALNAME:Don Valley Community Legal Services
X-ORIGINAL-URL:https://www.donvalleylegal.ca
X-WR-CALDESC:Events for Don Valley Community Legal Services
REFRESH-INTERVAL;VALUE=DURATION:PT1H
X-Robots-Tag:noindex
X-PUBLISHED-TTL:PT1H
BEGIN:VTIMEZONE
TZID:America/Toronto
BEGIN:DAYLIGHT
TZOFFSETFROM:-0500
TZOFFSETTO:-0400
TZNAME:EDT
DTSTART:20240310T070000
END:DAYLIGHT
BEGIN:STANDARD
TZOFFSETFROM:-0400
TZOFFSETTO:-0500
TZNAME:EST
DTSTART:20241103T060000
END:STANDARD
BEGIN:DAYLIGHT
TZOFFSETFROM:-0500
TZOFFSETTO:-0400
TZNAME:EDT
DTSTART:20250309T070000
END:DAYLIGHT
BEGIN:STANDARD
TZOFFSETFROM:-0400
TZOFFSETTO:-0500
TZNAME:EST
DTSTART:20251102T060000
END:STANDARD
BEGIN:DAYLIGHT
TZOFFSETFROM:-0500
TZOFFSETTO:-0400
TZNAME:EDT
DTSTART:20260308T070000
END:DAYLIGHT
BEGIN:STANDARD
TZOFFSETFROM:-0400
TZOFFSETTO:-0500
TZNAME:EST
DTSTART:20261101T060000
END:STANDARD
END:VTIMEZONE
BEGIN:VEVENT
DTSTART;TZID=America/Toronto:20251113T180000
DTEND;TZID=America/Toronto:20251113T193000
DTSTAMP:20260421T100645
CREATED:20251029T192845Z
LAST-MODIFIED:20251029T193921Z
UID:4049-1763056800-1763062200@www.donvalleylegal.ca
SUMMARY:Wills and Powers of Attorney Workshop with the Queen/Saulter Library
DESCRIPTION:Date: Thursday\, November 13\, 2025\nTime: 6:00 pm to 7:30 pm\nLocation: Toronto Public Library\, Queen/Saulter Branch\, 765 Queen Street East \nJoin this free workshop with a paralegal from our community legal clinic to learn about wills and powers of attorney. \n*Please note this is a workshop to provide legal information only. DVCLS does not assist clients with drafting wills or powers of attorney. \nEveryone is welcome to attend!
URL:https://www.donvalleylegal.ca/event/wills-and-powers-of-attorney-workshop-with-the-queen-saulter-library/
LOCATION:Toronto Public Library\, Queen/Saulter Branch\, 765 Queen St. East\, Toronto
ATTACH;FMTTYPE=image/png:https://www.donvalleylegal.ca/wp-content/uploads/2025/10/DVCLS-x-TPL-Wills-and-POA-Workshop-Nov-13-2025.png
END:VEVENT
END:VCALENDAR